BEGIN:VCALENDAR
PRODID:-//Microsoft Corporation//Outlook 12.0 MIMEDIR//EN
VERSION:2.0
CALSCALE:GREGORIAN
BEGIN:VEVENT
UID: 55b5fd94-e69e-4ca3-8a95-6363b7b4b06a
SUMMARY:Stiilipäev
DTSTAMP:20221031
DTSTART:20221031
DTEND:20221101
DURATION:P1D
LOCATION:
DESCRIPTION: <p>	&nbsp;Õpilasesindus: <em>Halloweeni</em>-teemaline stiilipäev</p><p><strong>Link: </strong>https://tyripk.ee/et/sundmuste-kalender/stiilipaev-1</p><p><strong>Hind: </strong></p>
STATUS:CONFIRMED
SEQUENCE:3
X-ALT-DESC;FMTTYPE=text/html:<p>	&nbsp;Õpilasesindus: <em>Halloweeni</em>-teemaline stiilipäev</p><p><strong>Link: </strong>https://tyripk.ee/et/sundmuste-kalender/stiilipaev-1</p><p><strong>Hind: </strong></p>
X-MICROSOFT-CDO-BUSYSTATUS:OOF
X-MICROSOFT-CDO-IMPORTANCE:1
X-MICROSOFT-DISALLOW-COUNTER:FALSE
X-MS-OLK-ALLOWEXTERNCHECK:TRUE
X-MS-OLK-CONFTYPE:0
X-MICROSOFT-CDO-ALLDAYEVENT:1
X-MICROSOFT-MSNCALENDAR-ALLDAYEVENT:1
END:VEVENT
END:VCALENDAR