BEGIN:VCALENDAR
PRODID:-//Microsoft Corporation//Outlook 12.0 MIMEDIR//EN
VERSION:2.0
CALSCALE:GREGORIAN
BEGIN:VEVENT
UID: 330ba698-6266-48c8-b496-7db74ba576e4
SUMMARY:1. trimestri aktused
DTSTAMP:20191129T095000
DTSTART:20191129T095000
DTEND:20191129T134000
LOCATION:
DESCRIPTION: <div class="OLw7vb nGJqzd">	&nbsp;</div><p>	3. tund - 1.-3. klasside õpilased (algklasside maja)</p><p>	4. tund - 4.-5. klasside õpilased (algklasside maja)</p><p>	6. tund - 6.-9. klasside õpilased (TÜG)</p><p><strong>Link: </strong>https://tyripk.ee/et/sundmuste-kalender/1-trimestri-aktused</p><p><strong>Hind: </strong></p>
STATUS:CONFIRMED
SEQUENCE:3
X-ALT-DESC;FMTTYPE=text/html:<div class="OLw7vb nGJqzd">	&nbsp;</div><p>	3. tund - 1.-3. klasside õpilased (algklasside maja)</p><p>	4. tund - 4.-5. klasside õpilased (algklasside maja)</p><p>	6. tund - 6.-9. klasside õpilased (TÜG)</p><p><strong>Link: </strong>https://tyripk.ee/et/sundmuste-kalender/1-trimestri-aktused</p><p><strong>Hind: </strong></p>
X-MICROSOFT-CDO-BUSYSTATUS:OOF
X-MICROSOFT-CDO-IMPORTANCE:1
X-MICROSOFT-DISALLOW-COUNTER:FALSE
X-MS-OLK-ALLOWEXTERNCHECK:TRUE
X-MS-OLK-CONFTYPE:0
X-MICROSOFT-CDO-ALLDAYEVENT:
X-MICROSOFT-MSNCALENDAR-ALLDAYEVENT:
END:VEVENT
END:VCALENDAR