BEGIN:VCALENDAR
PRODID:-//Microsoft Corporation//Outlook 12.0 MIMEDIR//EN
VERSION:2.0
CALSCALE:GREGORIAN
BEGIN:VEVENT
UID: f2d48a39-55f8-4707-afa3-4369de98ccdf
SUMMARY:Pildistamine
DTSTAMP:20190909T000000
DTSTART:20190909T000000
DTEND:20190909T104300
LOCATION:
DESCRIPTION: <div>	<strong>PILDISTAMINE</strong></div><div>	<strong>1. - 5. klasside õpilased</strong></div><div>	<strong>algklasside õppehoones</strong></div><div>	&nbsp;</div><div>	Sel aastal peavad kõik lapsevanemad oma lapse veebis kontrollkoodi alusel ära registreerima <strong>enne pildistamist.</strong></div><div>	<strong>KÕIGIL ÕPILASTEL ON OMA PERSONAALNE KOOD!&nbsp;</strong></div><div>	Õpilane tuleb pildistama sama lehega. Lehele märgib linnukese juhul kui soovib dokumendipilte, teiste piltide osas midagi eraldi märkima ei pea.</div><div>	&nbsp;</div><div>	Pärast pildistamist tuleb lapsevanemale teade, et pildid on galeriis üleval ja siis saab lapsevanem vastavalt soovile pilte ja erinevaid pildiga tooteid tellida.<br />	Maksmine toimub samas keskkonnas.</div><p><strong>Link: </strong>https://tyripk.ee/et/sundmuste-kalender/pildistamine</p><p><strong>Hind: </strong></p>
STATUS:CONFIRMED
SEQUENCE:3
X-ALT-DESC;FMTTYPE=text/html:<div>	<strong>PILDISTAMINE</strong></div><div>	<strong>1. - 5. klasside õpilased</strong></div><div>	<strong>algklasside õppehoones</strong></div><div>	&nbsp;</div><div>	Sel aastal peavad kõik lapsevanemad oma lapse veebis kontrollkoodi alusel ära registreerima <strong>enne pildistamist.</strong></div><div>	<strong>KÕIGIL ÕPILASTEL ON OMA PERSONAALNE KOOD!&nbsp;</strong></div><div>	Õpilane tuleb pildistama sama lehega. Lehele märgib linnukese juhul kui soovib dokumendipilte, teiste piltide osas midagi eraldi märkima ei pea.</div><div>	&nbsp;</div><div>	Pärast pildistamist tuleb lapsevanemale teade, et pildid on galeriis üleval ja siis saab lapsevanem vastavalt soovile pilte ja erinevaid pildiga tooteid tellida.<br />	Maksmine toimub samas keskkonnas.</div><p><strong>Link: </strong>https://tyripk.ee/et/sundmuste-kalender/pildistamine</p><p><strong>Hind: </strong></p>
X-MICROSOFT-CDO-BUSYSTATUS:OOF
X-MICROSOFT-CDO-IMPORTANCE:1
X-MICROSOFT-DISALLOW-COUNTER:FALSE
X-MS-OLK-ALLOWEXTERNCHECK:TRUE
X-MS-OLK-CONFTYPE:0
X-MICROSOFT-CDO-ALLDAYEVENT:
X-MICROSOFT-MSNCALENDAR-ALLDAYEVENT:
END:VEVENT
END:VCALENDAR