BEGIN:VCALENDAR
PRODID:-//Microsoft Corporation//Outlook 12.0 MIMEDIR//EN
VERSION:2.0
CALSCALE:GREGORIAN
BEGIN:VEVENT
UID: c8570d1a-6435-4bdf-b12f-6fa18ace8b69
SUMMARY:Avatud uste päev Retla-Kabala ja Käru 6. klasside õpilastele
DTSTAMP:20260427
DTSTART:20260427
DTEND:20260428
DURATION:P1D
LOCATION:
DESCRIPTION: <p><span class="post-title-main" style="border-width:0px;box-sizing:border-box;font:inherit;margin:0px;padding:0px;vertical-align:baseline;">Avatud uste päev Retla-Kabala ja Käru 6. klasside õpilastele.</span></p><p><span class="post-title-main" style="border-width:0px;box-sizing:border-box;font:inherit;margin:0px;padding:0px;vertical-align:baseline;">Õpilastel on võimalus külastada 6 tundi</span></p><p><strong>Link: </strong>https://tyripk.ee/et/sundmuste-kalender/avatud-uste-paev-retla-kabala-ja-karu-6-klasside-opilastele</p><p><strong>Hind: </strong></p>
STATUS:CONFIRMED
SEQUENCE:3
X-ALT-DESC;FMTTYPE=text/html:<p><span class="post-title-main" style="border-width:0px;box-sizing:border-box;font:inherit;margin:0px;padding:0px;vertical-align:baseline;">Avatud uste päev Retla-Kabala ja Käru 6. klasside õpilastele.</span></p><p><span class="post-title-main" style="border-width:0px;box-sizing:border-box;font:inherit;margin:0px;padding:0px;vertical-align:baseline;">Õpilastel on võimalus külastada 6 tundi</span></p><p><strong>Link: </strong>https://tyripk.ee/et/sundmuste-kalender/avatud-uste-paev-retla-kabala-ja-karu-6-klasside-opilastele</p><p><strong>Hind: </strong></p>
X-MICROSOFT-CDO-BUSYSTATUS:OOF
X-MICROSOFT-CDO-IMPORTANCE:1
X-MICROSOFT-DISALLOW-COUNTER:FALSE
X-MS-OLK-ALLOWEXTERNCHECK:TRUE
X-MS-OLK-CONFTYPE:0
X-MICROSOFT-CDO-ALLDAYEVENT:1
X-MICROSOFT-MSNCALENDAR-ALLDAYEVENT:1
END:VEVENT
END:VCALENDAR